BEGIN:VCALENDAR
VERSION:2.0
PRODID:-//Owámniyomni Okhódayapi - ECPv6.15.20//NONSGML v1.0//EN
CALSCALE:GREGORIAN
METHOD:PUBLISH
X-WR-CALNAME:Owámniyomni Okhódayapi
X-ORIGINAL-URL:https://owamniyomni.org
X-WR-CALDESC:Events for Owámniyomni Okhódayapi
REFRESH-INTERVAL;VALUE=DURATION:PT1H
X-Robots-Tag:noindex
X-PUBLISHED-TTL:PT1H
BEGIN:VTIMEZONE
TZID:America/Chicago
BEGIN:DAYLIGHT
TZOFFSETFROM:-0600
TZOFFSETTO:-0500
TZNAME:CDT
DTSTART:20250309T080000
END:DAYLIGHT
BEGIN:STANDARD
TZOFFSETFROM:-0500
TZOFFSETTO:-0600
TZNAME:CST
DTSTART:20251102T070000
END:STANDARD
BEGIN:DAYLIGHT
TZOFFSETFROM:-0600
TZOFFSETTO:-0500
TZNAME:CDT
DTSTART:20260308T080000
END:DAYLIGHT
BEGIN:STANDARD
TZOFFSETFROM:-0500
TZOFFSETTO:-0600
TZNAME:CST
DTSTART:20261101T070000
END:STANDARD
BEGIN:DAYLIGHT
TZOFFSETFROM:-0600
TZOFFSETTO:-0500
TZNAME:CDT
DTSTART:20270314T080000
END:DAYLIGHT
BEGIN:STANDARD
TZOFFSETFROM:-0500
TZOFFSETTO:-0600
TZNAME:CST
DTSTART:20271107T070000
END:STANDARD
END:VTIMEZONE
BEGIN:VEVENT
DTSTART;TZID=America/Chicago:20260321T100000
DTEND;TZID=America/Chicago:20260321T140000
DTSTAMP:20260425T061053
CREATED:20260225T200023Z
LAST-MODIFIED:20260225T200023Z
UID:10421-1774087200-1774101600@owamniyomni.org
SUMMARY:Owámniyomni Spring Equinox Open House
DESCRIPTION:We invite you all to join us at an open house\, introducing the new Owámniyomni Engagement Space\, celebrating our 10th anniversary and welcoming the Wetu (Spring) Equinox. Tours\, activities and food will be available Saturday\, March 21\, from 10 a.m. – 2 p.m at 100 Portland Avenue South\, Minneapolis\, MN 55401. We hope to see you there!
URL:https://owamniyomni.org/event/owamniyomni-spring-equinox-open-house/
LOCATION:Owamniyomni Engagement Space\, 100 Portland Avenue South\, Minneapolis\, MN\, 55401\, United States
ATTACH;FMTTYPE=image/jpeg:https://owamniyomni.org/wp-content/uploads/2026/02/Owamniyomni-low-res-0127.jpg
END:VEVENT
BEGIN:VEVENT
DTSTART;TZID=America/Chicago:20260422T170000
DTEND;TZID=America/Chicago:20260422T190000
DTSTAMP:20260425T061053
CREATED:20260410T162652Z
LAST-MODIFIED:20260410T162652Z
UID:10455-1776877200-1776884400@owamniyomni.org
SUMMARY:Earth Day Volunteer Clean Up
DESCRIPTION:Join Owámniyomni Okhódayapi this Earth Day (April 22 from 5-7 p.m.) in caring for Uŋći Maka (Grandmother Earth) and gather in community while picking up trash at the Owámniyomni Project Site. Gloves\, trash bags\, trash pickers\, snacks and refreshments will be provided.
URL:https://owamniyomni.org/event/earth-day-volunteer-clean-up/
LOCATION:Owamniyomni Engagement Space\, 100 Portland Avenue South\, Minneapolis\, MN\, 55401\, United States
ATTACH;FMTTYPE=image/png:https://owamniyomni.org/wp-content/uploads/2026/04/2026_Earth_Day_Cleanup_1.png
END:VEVENT
BEGIN:VEVENT
DTSTART;TZID=America/Chicago:20260514T160000
DTEND;TZID=America/Chicago:20260514T200000
DTSTAMP:20260425T061053
CREATED:20260413T161426Z
LAST-MODIFIED:20260413T161426Z
UID:10459-1778774400-1778788800@owamniyomni.org
SUMMARY:Sewing Workshop with Tiana Spotted Thunder
DESCRIPTION:Learn how to sew ribbon skirts\, sweat dresses\, and shawls with Tiana Spotted Thunder. The workshop will be split into three working sessions (May 14\, 21 & 28). Please only register if you can attend all three. Register here. \n*This event is intended for Indigenous folks and their families
URL:https://owamniyomni.org/event/sewing-workshop-with-tiana-spotted-thunder/
LOCATION:Owamniyomni Engagement Space\, 100 Portland Avenue South\, Minneapolis\, MN\, 55401\, United States
ATTACH;FMTTYPE=image/png:https://owamniyomni.org/wp-content/uploads/2026/04/Tiana-Spotted-Thunder-Sewing-Workshop-3.png
END:VEVENT
BEGIN:VEVENT
DTSTART;TZID=America/Chicago:20260604T173000
DTEND;TZID=America/Chicago:20260604T193000
DTSTAMP:20260425T061053
CREATED:20260423T161133Z
LAST-MODIFIED:20260423T161133Z
UID:10463-1780594200-1780601400@owamniyomni.org
SUMMARY:Good Relatives Series: Caring for the River
DESCRIPTION:Dakota people view Ȟaȟa Wakpá (Mississippi River) to be a living relative\, a source of life and abundance. What does it mean to be a good relative to the river? How can we care for her with respect and reciprocity? Join Owámniyomni Okhódayapi and partners for a roundtable discussion about awaŋyaŋkapi (all-encompassing care)\, river health\, and environmental restoration. Register for the event here.
URL:https://owamniyomni.org/event/good-relatives-series-caring-for-the-river/
LOCATION:Owamniyomni Engagement Space\, 100 Portland Avenue South\, Minneapolis\, MN\, 55401\, United States
ATTACH;FMTTYPE=image/jpeg:https://owamniyomni.org/wp-content/uploads/2026/04/ChristopherSticha_070_HI.jpg
END:VEVENT
BEGIN:VEVENT
DTSTART;TZID=America/Chicago:20260610T100000
DTEND;TZID=America/Chicago:20260610T110000
DTSTAMP:20260425T061053
CREATED:20260423T162217Z
LAST-MODIFIED:20260423T162217Z
UID:10466-1781085600-1781089200@owamniyomni.org
SUMMARY:Owámniyomni Interpretive Tour
DESCRIPTION:Owámniyomni (St. Anthony Falls) has been a place of profound spiritual and cultural significance for Dakota and other Indigenous people for countless generations\, yet most people raised in Minnesota know nothing of this long history. \nJoin Barry Hand\, Owámniyomni Okhódayapi program director\, for a 60-minute guided site visit of the Falls and the Upper Lock. Learn about Dakota lifeways\, the significance of the River\, and the Mní Sóta Dakota Tribes’ vision for cultural and environmental restoration. Meet up at the Owámniyomni Engagement Space (100 Portland Avenue South\, Minneapolis\, MN 55401) \nThis tour is open to the public. Private tours are available for school groups\, non-profit organizations\, corporations and government agencies. Contact info@owamniyomni.org to schedule. \nNotice: This event takes place in a public forum where photography\, video and audio recording may occur. By registering for this event\, entering the area in which this event takes place\, or participating in this event\, you acknowledge that you have been informed that you may be photographed\, filmed (including live-streamed) or otherwise recorded and you consent to such photographs\, videos\, films or other recorded media and its ongoing use\, release\, distribution\, exhibition and reproduction anywhere in the world through news channels\, exhibitions\, advertising\, websites\, social media\, printed collateral or other channels without compensation or credit to you. All such recorded media and their derivatives are and shall continue to be Owámniyomni Okhódayapi’s exclusive property. You further waive all rights you may have to any claims in connection with use of these materials. If you do not agree to the foregoing\, please do not register for the event or enter the event premises\, or participate in the event.
URL:https://owamniyomni.org/event/owamniyomni-interpretive-tour-12/
LOCATION:Owamniyomni Engagement Space\, 100 Portland Avenue South\, Minneapolis\, MN\, 55401\, United States
ATTACH;FMTTYPE=image/jpeg:https://owamniyomni.org/wp-content/uploads/2026/04/ChristopherSticha_171_HI.jpg
END:VEVENT
BEGIN:VEVENT
DTSTART;TZID=America/Chicago:20260715T180000
DTEND;TZID=America/Chicago:20260715T190000
DTSTAMP:20260425T061053
CREATED:20260423T162455Z
LAST-MODIFIED:20260423T162455Z
UID:10468-1784138400-1784142000@owamniyomni.org
SUMMARY:Owámniyomni Interpretive Tour
DESCRIPTION:Owámniyomni (St. Anthony Falls) has been a place of profound spiritual and cultural significance for Dakota and other Indigenous people for countless generations\, yet most people raised in Minnesota know nothing of this long history. \nJoin Barry Hand\, Owámniyomni Okhódayapi program director\, for a 60-minute guided site visit of the Falls and the Upper Lock. Learn about Dakota lifeways\, the significance of the River\, and the Mní Sóta Dakota Tribes’ vision for cultural and environmental restoration. Meet up at the Owámniyomni Engagement Space (100 Portland Avenue South\, Minneapolis\, MN 55401) \nThis tour is open to the public. Private tours are available for school groups\, non-profit organizations\, corporations and government agencies. Contact info@owamniyomni.org to schedule. \nNotice: This event takes place in a public forum where photography\, video and audio recording may occur. By registering for this event\, entering the area in which this event takes place\, or participating in this event\, you acknowledge that you have been informed that you may be photographed\, filmed (including live-streamed) or otherwise recorded and you consent to such photographs\, videos\, films or other recorded media and its ongoing use\, release\, distribution\, exhibition and reproduction anywhere in the world through news channels\, exhibitions\, advertising\, websites\, social media\, printed collateral or other channels without compensation or credit to you. All such recorded media and their derivatives are and shall continue to be Owámniyomni Okhódayapi’s exclusive property. You further waive all rights you may have to any claims in connection with use of these materials. If you do not agree to the foregoing\, please do not register for the event or enter the event premises\, or participate in the event.
URL:https://owamniyomni.org/event/owamniyomni-interpretive-tour-13/
LOCATION:Owamniyomni Engagement Space\, 100 Portland Avenue South\, Minneapolis\, MN\, 55401\, United States
ATTACH;FMTTYPE=image/jpeg:https://owamniyomni.org/wp-content/uploads/2026/04/ChristopherSticha_171_HI.jpg
END:VEVENT
BEGIN:VEVENT
DTSTART;TZID=America/Chicago:20260819T100000
DTEND;TZID=America/Chicago:20260819T110000
DTSTAMP:20260425T061053
CREATED:20260423T162813Z
LAST-MODIFIED:20260423T162813Z
UID:10469-1787133600-1787137200@owamniyomni.org
SUMMARY:Owámniyomni Interpretive Tour
DESCRIPTION:Owámniyomni (St. Anthony Falls) has been a place of profound spiritual and cultural significance for Dakota and other Indigenous people for countless generations\, yet most people raised in Minnesota know nothing of this long history. \nJoin Barry Hand\, Owámniyomni Okhódayapi program director\, for a 60-minute guided site visit of the Falls and the Upper Lock. Learn about Dakota lifeways\, the significance of the River\, and the Mní Sóta Dakota Tribes’ vision for cultural and environmental restoration. Meet up at the Owámniyomni Engagement Space (100 Portland Avenue South\, Minneapolis\, MN 55401) \nThis tour is open to the public. Private tours are available for school groups\, non-profit organizations\, corporations and government agencies. Contact info@owamniyomni.org to schedule. \nNotice: This event takes place in a public forum where photography\, video and audio recording may occur. By registering for this event\, entering the area in which this event takes place\, or participating in this event\, you acknowledge that you have been informed that you may be photographed\, filmed (including live-streamed) or otherwise recorded and you consent to such photographs\, videos\, films or other recorded media and its ongoing use\, release\, distribution\, exhibition and reproduction anywhere in the world through news channels\, exhibitions\, advertising\, websites\, social media\, printed collateral or other channels without compensation or credit to you. All such recorded media and their derivatives are and shall continue to be Owámniyomni Okhódayapi’s exclusive property. You further waive all rights you may have to any claims in connection with use of these materials. If you do not agree to the foregoing\, please do not register for the event or enter the event premises\, or participate in the event.
URL:https://owamniyomni.org/event/owamniyomni-interpretive-tour-14/
LOCATION:Owamniyomni Engagement Space\, 100 Portland Avenue South\, Minneapolis\, MN\, 55401\, United States
ATTACH;FMTTYPE=image/jpeg:https://owamniyomni.org/wp-content/uploads/2026/04/ChristopherSticha_171_HI.jpg
END:VEVENT
BEGIN:VEVENT
DTSTART;TZID=America/Chicago:20260916T180000
DTEND;TZID=America/Chicago:20260916T190000
DTSTAMP:20260425T061053
CREATED:20260423T163025Z
LAST-MODIFIED:20260423T163025Z
UID:10470-1789581600-1789585200@owamniyomni.org
SUMMARY:Owámniyomni Interpretive Tour
DESCRIPTION:Owámniyomni (St. Anthony Falls) has been a place of profound spiritual and cultural significance for Dakota and other Indigenous people for countless generations\, yet most people raised in Minnesota know nothing of this long history. \nJoin Barry Hand\, Owámniyomni Okhódayapi program director\, for a 60-minute guided site visit of the Falls and the Upper Lock. Learn about Dakota lifeways\, the significance of the River\, and the Mní Sóta Dakota Tribes’ vision for cultural and environmental restoration. Meet up at the Owámniyomni Engagement Space (100 Portland Avenue South\, Minneapolis\, MN 55401) \nThis tour is open to the public. Private tours are available for school groups\, non-profit organizations\, corporations and government agencies. Contact info@owamniyomni.org to schedule. \nNotice: This event takes place in a public forum where photography\, video and audio recording may occur. By registering for this event\, entering the area in which this event takes place\, or participating in this event\, you acknowledge that you have been informed that you may be photographed\, filmed (including live-streamed) or otherwise recorded and you consent to such photographs\, videos\, films or other recorded media and its ongoing use\, release\, distribution\, exhibition and reproduction anywhere in the world through news channels\, exhibitions\, advertising\, websites\, social media\, printed collateral or other channels without compensation or credit to you. All such recorded media and their derivatives are and shall continue to be Owámniyomni Okhódayapi’s exclusive property. You further waive all rights you may have to any claims in connection with use of these materials. If you do not agree to the foregoing\, please do not register for the event or enter the event premises\, or participate in the event.
URL:https://owamniyomni.org/event/owamniyomni-interpretive-tour-15/
LOCATION:Owamniyomni Engagement Space\, 100 Portland Avenue South\, Minneapolis\, MN\, 55401\, United States
ATTACH;FMTTYPE=image/jpeg:https://owamniyomni.org/wp-content/uploads/2026/04/ChristopherSticha_171_HI.jpg
END:VEVENT
END:VCALENDAR